BEGIN:VCALENDAR
VERSION:2.0
PRODID:-//wp-events-plugin.com//7.2.3.1//EN
TZID:America/New_York
X-WR-TIMEZONE:America/New_York
BEGIN:VEVENT
UID:889@dancemomcentral.com
DTSTART;TZID=America/New_York;VALUE=DATE:20260306
DTEND;TZID=America/New_York;VALUE=DATE:20260309
DTSTAMP:20250619T204521Z
URL:https://dancemomcentral.com/events/nexstar-upland-ca/
SUMMARY:Nexstar - Upland\, CA
DESCRIPTION:Nexstar National Talent Competition - Upland\, CA\nNexstar 's m
 ission is to provide dancers of all levels a positive\, fun\, safe\, and f
 amily-friendly environment to showcase their hard work and talents.\n\nAdd
 itional Details: Nexstar- 2026 Schedule\n\nLooking for nearby hotels?\nWe
 ’ve got you covered with stays close to the venue.\n\n[icon name="hotel"
  prefix="fas"] See Nearby Hotels\n\n&nbsp\;\n\n*Disclosure: Some links on 
 this site may be affiliate links. I may earn a commission for purchases ma
 de through these links\, at no additional cost to you.
ATTACH;FMTTYPE=image/jpeg:https://dancemomcentral.com/wp-content/uploads/2
 025/01/Nexstar-Dance-Competition.jpeg
CATEGORIES:Dance Competitions
LOCATION:Highlander Auditorium\, 850 N San Antonio Ave\,  Upland\, CA\, 917
 86\, United States
X-APPLE-STRUCTURED-LOCATION;VALUE=URI;X-ADDRESS=850 N San Antonio Ave\,  Up
 land\, CA\, 91786\, United States;X-APPLE-RADIUS=100;X-TITLE=Highlander Au
 ditorium:geo:0,0
END:VEVENT
BEGIN:VTIMEZONE
TZID:America/New_York
X-LIC-LOCATION:America/New_York
BEGIN:STANDARD
DTSTART:20251102T010000
TZOFFSETFROM:-0400
TZOFFSETTO:-0500
TZNAME:EST
END:STANDARD
BEGIN:DAYLIGHT
DTSTART:20260308T030000
TZOFFSETFROM:-0500
TZOFFSETTO:-0400
TZNAME:EDT
END:DAYLIGHT
END:VTIMEZONE
END:VCALENDAR