BEGIN:VCALENDAR
VERSION:2.0
PRODID:-//wp-events-plugin.com//7.2.3.1//EN
TZID:America/New_York
X-WR-TIMEZONE:America/New_York
BEGIN:VEVENT
UID:777@dancemomcentral.com
DTSTART;TZID=America/New_York;VALUE=DATE:20251024
DTEND;TZID=America/New_York;VALUE=DATE:20251027
DTSTAMP:20250806T135430Z
URL:https://dancemomcentral.com/events/nuvo-tulsa-ok/
SUMMARY:Nuvo - Tulsa\, OK
DESCRIPTION:Nuvo - Tulsa\, OK\nNUVO Convention/Competition offers classes i
 n ALL STYLES: Jazz\, Ballet\, Contemporary\, Hip-Hop\, Musical Theatre\, B
 allroom\, Tap\, Improve &amp\; More\n\n&nbsp\;\n\nAdditional Details: Nuvo
  - Tulsa\, OK\n\n&nbsp\;\nLooking for nearby hotels?\nWe’ve got you cove
 red with stays close to the venue.\n\n[icon name="hotel" prefix="fas"] See
  Nearby Hotels: Accommodations\n\n&nbsp\;\n\nAffiliate Disclosure: Some li
 nks on this events page\, may be affiliate links. If you book through the 
 accommodations link\, we may earn a commission at no additional cost to yo
 u.
ATTACH;FMTTYPE=image/jpeg:https://dancemomcentral.com/wp-content/uploads/2
 025/01/NUVO-Dance-Competition.png
CATEGORIES:Dance Competitions,Dance Conventions
LOCATION:RENAISSANCE TULSA HOTEL & CONVENTION CENTER\, 6808 South 107th Eas
 t Avenue\, Tulsa\, OK\, 74133\, United States
GEO:36.06501;-95.857892
X-APPLE-STRUCTURED-LOCATION;VALUE=URI;X-ADDRESS=6808 South 107th East Avenu
 e\, Tulsa\, OK\, 74133\, United States;X-APPLE-RADIUS=100;X-TITLE=RENAISSA
 NCE TULSA HOTEL & CONVENTION CENTER:geo:36.06501,-95.857892
END:VEVENT
BEGIN:VTIMEZONE
TZID:America/New_York
X-LIC-LOCATION:America/New_York
BEGIN:DAYLIGHT
DTSTART:20250309T030000
TZOFFSETFROM:-0500
TZOFFSETTO:-0400
TZNAME:EDT
END:DAYLIGHT
END:VTIMEZONE
END:VCALENDAR