BEGIN:VCALENDAR
VERSION:2.0
PRODID:-//wp-events-plugin.com//7.2.3.1//EN
TZID:America/New_York
X-WR-TIMEZONE:America/New_York
BEGIN:VEVENT
UID:1085@dancemomcentral.com
DTSTART;TZID=America/New_York;VALUE=DATE:20251205
DTEND;TZID=America/New_York;VALUE=DATE:20251208
DTSTAMP:20250912T121444Z
URL:https://dancemomcentral.com/events/revive-dance-convention-san-diego-c
 a/
SUMMARY:Revive Dance Convention - San Diego\, CA
DESCRIPTION:\n\nRevive Dance Convention - San Diego\, CA\n\n\n\n\n\n\nAdren
 aline\, Revive\, and National Dance Honors offer students a safe and nurtu
 ring space to train with an esteemed faculty and staff of student-centered
  dance educators.\n\n\n\n\nAdditional Details: Revive Dance Convention- Sa
 n Diego\, CA\n\n&nbsp\;\nLooking for nearby hotels?\nWe’ve got you cover
 ed with stays close to the venue.\n\n[icon name="hotel" prefix="fas"] See 
 Nearby Hotels: Accommodations \n\n&nbsp\;\n\nAffiliate Disclosure: Some l
 inks on this events page\, may be affiliate links. If you book through the
  accommodations link\, we may earn a commission at no additional cost to y
 ou.
ATTACH;FMTTYPE=image/jpeg:https://dancemomcentral.com/wp-content/uploads/2
 025/09/Revive.png.webp
CATEGORIES:Dance Competitions,Dance Conventions
LOCATION:SHERATON SAN DIEGO HOTEL & MARINA\, 1380 Harbor Island Drive\, San
  Diego\, CA\, 92101\, United States
GEO:32.727041;-117.197952
X-APPLE-STRUCTURED-LOCATION;VALUE=URI;X-ADDRESS=1380 Harbor Island Drive\, 
 San Diego\, CA\, 92101\, United States;X-APPLE-RADIUS=100;X-TITLE=SHERATON
  SAN DIEGO HOTEL & MARINA:geo:32.727041,-117.197952
END:VEVENT
BEGIN:VTIMEZONE
TZID:America/New_York
X-LIC-LOCATION:America/New_York
BEGIN:STANDARD
DTSTART:20251102T010000
TZOFFSETFROM:-0400
TZOFFSETTO:-0500
TZNAME:EST
END:STANDARD
END:VTIMEZONE
END:VCALENDAR