BEGIN:VCALENDAR
VERSION:2.0
PRODID:-//wp-events-plugin.com//7.2.3.1//EN
TZID:America/New_York
X-WR-TIMEZONE:America/New_York
BEGIN:VEVENT
UID:1101@dancemomcentral.com
DTSTART;TZID=America/New_York;VALUE=DATE:20260306
DTEND;TZID=America/New_York;VALUE=DATE:20260309
DTSTAMP:20250927T200305Z
URL:https://dancemomcentral.com/events/revive-dance-convention-st-louis-mo
 /
SUMMARY:Revive Dance Convention - St. Louis\, MO
DESCRIPTION:\n\nRevive Dance Convention - St. Louis\, MO\n\n\n\n\n\n\nAdren
 aline\, Revive\, and National Dance Honors offer students a safe and nurtu
 ring space to train with an esteemed faculty and staff of student-centered
  dance educators.\n\n\n\n\nAdditional Details: Revive Dance Convention- St
 . Louis\, MO\n\n&nbsp\;\nLooking for nearby hotels?\nWe’ve got you cover
 ed with stays close to the venue.\n\n[icon name="hotel" prefix="fas"] See 
 Nearby Hotels: Accommodations \n\n&nbsp\;\n\nAffiliate Disclosure: Some l
 inks on this events page\, may be affiliate links. If you book through the
  accommodations link\, we may earn a commission at no additional cost to y
 ou.
ATTACH;FMTTYPE=image/jpeg:https://dancemomcentral.com/wp-content/uploads/2
 025/09/Revive.png.webp
CATEGORIES:Dance Competitions,Dance Conventions
LOCATION:ST. LOUIS UNION STATION\, 1820 Market Street\, St. Louis\, MO\, 63
 103\, United States
GEO:38.628382;-90.208201
X-APPLE-STRUCTURED-LOCATION;VALUE=URI;X-ADDRESS=1820 Market Street\, St. Lo
 uis\, MO\, 63103\, United States;X-APPLE-RADIUS=100;X-TITLE=ST. LOUIS UNIO
 N STATION:geo:38.628382,-90.208201
END:VEVENT
BEGIN:VTIMEZONE
TZID:America/New_York
X-LIC-LOCATION:America/New_York
BEGIN:STANDARD
DTSTART:20251102T010000
TZOFFSETFROM:-0400
TZOFFSETTO:-0500
TZNAME:EST
END:STANDARD
BEGIN:DAYLIGHT
DTSTART:20260308T030000
TZOFFSETFROM:-0500
TZOFFSETTO:-0400
TZNAME:EDT
END:DAYLIGHT
END:VTIMEZONE
END:VCALENDAR