BEGIN:VCALENDAR
VERSION:2.0
PRODID:-//wp-events-plugin.com//7.2.3.1//EN
TZID:America/New_York
X-WR-TIMEZONE:America/New_York
BEGIN:VEVENT
UID:929@dancemomcentral.com
DTSTART;TZID=America/New_York;VALUE=DATE:20260227
DTEND;TZID=America/New_York;VALUE=DATE:20260302
DTSTAMP:20250704T193631Z
URL:https://dancemomcentral.com/events/starpower-tulsa-ok-2/
SUMMARY:StarPower - Tulsa\, Ok
DESCRIPTION:StarPower - Tulsa\, Ok\nStarpower is the stage where performers
  of all ages and levels\, across the globe\, showcase their incredible tal
 ent. Starpower is one of the largest and longest standing competitions\, w
 ith almost 4 decades of experience in the industry.\n\n&nbsp\;\n\nAddition
 al Details: StarPower 2026 Scehdule\n\n&nbsp\;\nLooking for nearby hotels
 ?\nWe’ve got you covered with stays close to the venue.\n\n[icon name="h
 otel" prefix="fas"] See Nearby Hotels\n\n&nbsp\;\n\n&nbsp\;\n\n*Disclosure
 : Some links on this site may be affiliate links. I may earn a commission 
 for purchases made through these links\, at no additional cost to you.
ATTACH;FMTTYPE=image/jpeg:https://dancemomcentral.com/wp-content/uploads/2
 025/02/Starpower-logo-e1764091458647.png
CATEGORIES:Dance Competitions
LOCATION:Cox Business Center/Tulsa Convention Center\, 100 Civic Center\, T
 ulsa\, OK\, 74103\, United States
GEO:36.148764;-95.99618
X-APPLE-STRUCTURED-LOCATION;VALUE=URI;X-ADDRESS=100 Civic Center\, Tulsa\, 
 OK\, 74103\, United States;X-APPLE-RADIUS=100;X-TITLE=Cox Business Center/
 Tulsa Convention Center:geo:36.148764,-95.99618
END:VEVENT
BEGIN:VTIMEZONE
TZID:America/New_York
X-LIC-LOCATION:America/New_York
BEGIN:STANDARD
DTSTART:20251102T010000
TZOFFSETFROM:-0400
TZOFFSETTO:-0500
TZNAME:EST
END:STANDARD
END:VTIMEZONE
END:VCALENDAR