BEGIN:VCALENDAR
VERSION:2.0
PRODID:-//wp-events-plugin.com//7.2.3.1//EN
TZID:America/New_York
X-WR-TIMEZONE:America/New_York
BEGIN:VEVENT
UID:1014@dancemomcentral.com
DTSTART;TZID=America/New_York;VALUE=DATE:20251123
DTEND;TZID=America/New_York;VALUE=DATE:20251124
DTSTAMP:20250824T134301Z
URL:https://dancemomcentral.com/events/turn-it-up-dance-convention-albany-
 ny/
SUMMARY:Turn It Up Dance Convention - Albany\, NY
DESCRIPTION:Turn It Up Dance Challenge - Albany\, NY\nRegistration Opens: A
 ugust 4\, 2025\;  Registration Deadline: Nov 3\, 2025\n\nTurn It Up Dance
  Conventions are more than just a day of dancing and learning\, our team o
 f crew members and master teachers work hard to guarantee everyone who att
 ends has a truly memorable\, educational\, and positive experience.\n\nWhy
  attend a Turn It Up Dance Convention:\n\n 	Classes For Dancers of All Lev
 els and Ages.\n 	Scholarships Awarded in Each Class.\n 	Opportunities for 
 dancers to assist our Master Teachers.\n 	Classes Taught By Top Industry P
 rofessionals.\n\nFor more info\, please visit  Dance Conventions page.  
 \n\n&nbsp\;\n\n&nbsp\;\n\n&nbsp\;\n\n&nbsp\;\n\n&nbsp\;
ATTACH;FMTTYPE=image/jpeg:https://dancemomcentral.com/wp-content/uploads/2
 024/12/Composite-Glitter-Logo-Full-17.png
CATEGORIES:Dance Conventions
LOCATION:Albany Marriott\, 189 Wolf Rd\, Albany\, NY\, 12205\, United State
 s
GEO:42.720804;-73.799815
X-APPLE-STRUCTURED-LOCATION;VALUE=URI;X-ADDRESS=189 Wolf Rd\, Albany\, NY\,
  12205\, United States;X-APPLE-RADIUS=100;X-TITLE=Albany Marriott:geo:42.7
 20804,-73.799815
END:VEVENT
BEGIN:VTIMEZONE
TZID:America/New_York
X-LIC-LOCATION:America/New_York
BEGIN:STANDARD
DTSTART:20251102T010000
TZOFFSETFROM:-0400
TZOFFSETTO:-0500
TZNAME:EST
END:STANDARD
END:VTIMEZONE
END:VCALENDAR